BEGIN:VCALENDAR
VERSION:2.0
PRODID:-//ExpressionEngine Easy iCalendar plugin//NONSGML v2.0.0//EN
X-WR-TIMEZONE:America/New_York
X-WR-CALNAME:Upcoming Auctions
BEGIN:VEVENT
UID:160422
DTSTAMP:20260423T060000
DTSTART:20260423T060000
DTEND:20260507T180000
SUMMARY:Vintage Coin Auction
LOCATION:16 E. Bethany Rd\, Newmanstown\, PA 17073\, US
DESCRIPTION:Vintage Coin Auction
URL:https://www.highbidswin.com/auctions/detail/bw160422
SEQUENCE:1
END:VEVENT
END:VCALENDAR